BEGIN:VCALENDAR
VERSION:2.0
PRODID:-//Tukios.com/
BEGIN:VEVENT
UID:d324758d-248a-44c7-9d84-22d28f4e313e@www.perryfuneral.com
DTSTAMP:20260423T021330Z
DTSTART:20260424T140000Z
DTEND:20260424T160000Z
SUMMARY:Visitation and Funeral Service
DESCRIPTION:With a service to take place at 12:00 PM. Burial will 
	immediately follow in Pine Grove Cemetery.
URL:https://www.perryfuneral.com/obituaries/jose-cordero
LOCATION: 111 Dartmouth St  New Bedford MA 02740
GEO:41.6244774;-70.9324911
END:VEVENT
END:VCALENDAR