BEGIN:VCALENDAR
VERSION:2.0
PRODID:-//Tukios.com/
BEGIN:VEVENT
UID:938c956d-59f7-43dc-99ae-f4145fd6882b@www.perryfuneral.com
DTSTAMP:20260423T020835Z
DTSTART:20260424T164500Z
DTEND:20260424T170000Z
SUMMARY:Burial
DESCRIPTION:Immediately following the service at 12:00PM in the funeral 
	home.
URL:https://www.perryfuneral.com/obituaries/jose-cordero
LOCATION: 1100 Ashley Blvd  New Bedford MA 02745
GEO:41.6898355;-70.9331316
END:VEVENT
END:VCALENDAR